OziExplorer Map Data File Version 2.1
Spring 2017 KP mini
Spring 2017 KP mini.png
1 ,Map Code,
Pulkovo 1942,WGS 84, 0.0000, 0.0000,WGS 84
Reserved 1
Reserved 2
Magnetic Variation,,,E
Map Projection,Transverse Mercator,PolyCal,No,AutoCalOnly,No,BSBUseWPX,No
Point01,xy, 0, 0,in, deg, 54, 17.1302,N, 83, 25.1141,E, grid, , 14657500, 6020500,N
Point02,xy, 1211, 0,in, deg, 54, 16.7055,N, 83, 44.9247,E, grid, , 14679027, 6020500,N
Point03,xy, 2422, 0,in, deg, 54, 16.2267,N, 84, 4.7262,E, grid, , 14700555, 6020500,N
Point04,xy, 0, 847,in, deg, 54, 9.0167,N, 83, 24.6405,E, grid, , 14657500, 6005435,N
Point05,xy, 1211, 847,in, deg, 54, 8.5942,N, 83, 44.3866,E, grid, , 14679027, 6005435,N
Point06,xy, 2422, 847,in, deg, 54, 8.1177,N, 84, 4.1238,E, grid, , 14700555, 6005435,N
Point07,xy, 0, 1694,in, deg, 54, 0.9030,N, 83, 24.1708,E, grid, , 14657500, 5990369,N
Point08,xy, 1211, 1694,in, deg, 54, 0.4825,N, 83, 43.8530,E, grid, , 14679027, 5990369,N
Point09,xy, 2422, 1694,in, deg, 54, 0.0084,N, 84, 3.5263,E, grid, , 14700555, 5990369,N
Point10,xy, , ,in, deg, , ,N, , ,W, grid, , , ,N
Point11,xy, , ,in, deg, , ,N, , ,W, grid, , , ,N
Point12,xy, , ,in, deg, , ,N, , ,W, grid, , , ,N
Point13,xy, , ,in, deg, , ,N, , ,W, grid, , , ,N
Point14,xy, , ,in, deg, , ,N, , ,W, grid, , , ,N
Point15,xy, , ,in, deg, , ,N, , ,W, grid, , , ,N
Point16,xy, , ,in, deg, , ,N, , ,W, grid, , , ,N
Point17,xy, , ,in, deg, , ,N, , ,W, grid, , , ,N
Point18,xy, , ,in, deg, , ,N, , ,W, grid, , , ,N
Point19,xy, , ,in, deg, , ,N, , ,W, grid, , , ,N
Point20,xy, , ,in, deg, , ,N, , ,W, grid, , , ,N
Point21,xy, , ,in, deg, , ,N, , ,W, grid, , , ,N
Point22,xy, , ,in, deg, , ,N, , ,W, grid, , , ,N
Point23,xy, , ,in, deg, , ,N, , ,W, grid, , , ,N
Point24,xy, , ,in, deg, , ,N, , ,W, grid, , , ,N
Point25,xy, , ,in, deg, , ,N, , ,W, grid, , , ,N
Point26,xy, , ,in, deg, , ,N, , ,W, grid, , , ,N
Point27,xy, , ,in, deg, , ,N, , ,W, grid, , , ,N
Point28,xy, , ,in, deg, , ,N, , ,W, grid, , , ,N
Point29,xy, , ,in, deg, , ,N, , ,W, grid, , , ,N
Point30,xy, , ,in, deg, , ,N, , ,W, grid, , , ,N
Projection Setup, 0.0000000000, 81.000000, 1.0000000, 14500000, 0.0000000000,,,,
Map Feature = MF ; Map Comment = MC These follow if they exist
Track File = TF These follow if they exist
Moving Map Parameters = MM? These follow if they exist
MM0,Yes
MMPNUM,4
MMPXY,1,0,0
MMPXY,2,2422,0
MMPXY,3,2422,1694
MMPXY,4,0,1694
MMPLL, 1, 83.418568, 54.285504
MMPLL, 2, 84.078770, 54.270445
MMPLL, 3, 84.058771, 54.000140
MMPLL, 4, 83.402846, 54.015051
MM1B,9.327594
MOP,Map Open Position,0,0
IWH,Map Image Width/Height,2423,1695
